
BEGIN:VCALENDAR
VERSION:2.0
PRODID:-//ASMS - ECPv6.15.20//NONSGML v1.0//EN
CALSCALE:GREGORIAN
METHOD:PUBLISH
X-WR-CALNAME:ASMS
X-ORIGINAL-URL:https://asms.org.nz
X-WR-CALDESC:Events for ASMS
REFRESH-INTERVAL;VALUE=DURATION:PT1H
X-Robots-Tag:noindex
X-PUBLISHED-TTL:PT1H
BEGIN:VTIMEZONE
TZID:Pacific/Auckland
BEGIN:STANDARD
TZOFFSETFROM:+1300
TZOFFSETTO:+1200
TZNAME:NZST
DTSTART:20250405T140000
END:STANDARD
BEGIN:DAYLIGHT
TZOFFSETFROM:+1200
TZOFFSETTO:+1300
TZNAME:NZDT
DTSTART:20250927T140000
END:DAYLIGHT
BEGIN:STANDARD
TZOFFSETFROM:+1300
TZOFFSETTO:+1200
TZNAME:NZST
DTSTART:20260404T140000
END:STANDARD
BEGIN:DAYLIGHT
TZOFFSETFROM:+1200
TZOFFSETTO:+1300
TZNAME:NZDT
DTSTART:20260926T140000
END:DAYLIGHT
BEGIN:STANDARD
TZOFFSETFROM:+1300
TZOFFSETTO:+1200
TZNAME:NZST
DTSTART:20270403T140000
END:STANDARD
BEGIN:DAYLIGHT
TZOFFSETFROM:+1200
TZOFFSETTO:+1300
TZNAME:NZDT
DTSTART:20270925T140000
END:DAYLIGHT
END:VTIMEZONE
BEGIN:VEVENT
DTSTART;TZID=Pacific/Auckland:20260421T080000
DTEND;TZID=Pacific/Auckland:20260421T110000
DTSTAMP:20260421T215016
CREATED:20240429T004520Z
LAST-MODIFIED:20260223T230901Z
UID:7896-1776758400-1776769200@asms.org.nz
SUMMARY:Te Toka Tumai Auckland JCC
DESCRIPTION:Pre-Meeting 8:00 – 9:00am\nFormal Meeting 9:00am – 11:00am
URL:https://asms.org.nz/event/te-toka-tumai-auckland-jcc-2/
CATEGORIES:JCC's
ATTACH;FMTTYPE=image/jpeg:https://asms.org.nz/wp-content/uploads/2022/09/Auckland-DHB.jpg
END:VEVENT
END:VCALENDAR