
BEGIN:VCALENDAR
VERSION:2.0
PRODID:-//ASMS - ECPv6.15.20//NONSGML v1.0//EN
CALSCALE:GREGORIAN
METHOD:PUBLISH
X-ORIGINAL-URL:https://asms.org.nz
X-WR-CALDESC:Events for ASMS
REFRESH-INTERVAL;VALUE=DURATION:PT1H
X-Robots-Tag:noindex
X-PUBLISHED-TTL:PT1H
BEGIN:VTIMEZONE
TZID:Pacific/Auckland
BEGIN:STANDARD
TZOFFSETFROM:+1300
TZOFFSETTO:+1200
TZNAME:NZST
DTSTART:20250405T140000
END:STANDARD
BEGIN:DAYLIGHT
TZOFFSETFROM:+1200
TZOFFSETTO:+1300
TZNAME:NZDT
DTSTART:20250927T140000
END:DAYLIGHT
BEGIN:STANDARD
TZOFFSETFROM:+1300
TZOFFSETTO:+1200
TZNAME:NZST
DTSTART:20260404T140000
END:STANDARD
BEGIN:DAYLIGHT
TZOFFSETFROM:+1200
TZOFFSETTO:+1300
TZNAME:NZDT
DTSTART:20260926T140000
END:DAYLIGHT
BEGIN:STANDARD
TZOFFSETFROM:+1300
TZOFFSETTO:+1200
TZNAME:NZST
DTSTART:20270403T140000
END:STANDARD
BEGIN:DAYLIGHT
TZOFFSETFROM:+1200
TZOFFSETTO:+1300
TZNAME:NZDT
DTSTART:20270925T140000
END:DAYLIGHT
END:VTIMEZONE
BEGIN:VEVENT
DTSTART;VALUE=DATE:20260903
DTEND;VALUE=DATE:20260905
DTSTAMP:20260423T102339
CREATED:20251215T200527Z
LAST-MODIFIED:20260407T033943Z
UID:9524-1788393600-1788566399@asms.org.nz
SUMMARY:ASMS 38th Annual Conference
DESCRIPTION:REGISTRATIONS OPEN IN JUNE\n			\n			\n				\n				\n				\n				\n			\n				\n				\n				\n				\n				\n				\n				\n				\n				\n				\n				Clause 29.1 of the DHB MECA gives leave on full pay to attend meetings of the ASMS including our conferences. You do not have to use CME Leave. \nMember representation at the ASMS Conference is an important part of our governance processes and feedback to and from members at conference is essential to good decision making.  The ASMS National Conference is the supreme decision making body of the ASMS. \nAs a Te Whatu Ora employee you will be attending conference on Professional Leave (29.1) on full pay as a formal representative of ASMS at your District.  If you work for a non-TWO Employer please contact your Industrial Officer for advice re paid leave.
URL:https://asms.org.nz/event/asms-38th-annual-conference/
LOCATION:Te Papa – Amokura Gallery\, 55 Cable Street\, Wellington\, 6011\, New Zealand
CATEGORIES:Conference
ATTACH;FMTTYPE=:
END:VEVENT
END:VCALENDAR